BEGIN:VCALENDAR
VERSION:2.0
PRODID:
BEGIN:VEVENT
UID:588122mb
DTSTAMP:20260421T085435Z
DTSTART:20260515T160000Z
DTEND:20260515T180000Z
LOCATION: **Online**
SUMMARY: Effectively Responding to IRS Letters
DESCRIPTION: This course equips tax professionals with the knowledge and strategies needed to handle the most common IRS letters\, including general notices\, audit requests\, collections\, return inquiries\, and error notices. Participants will learn how to interpret IRS correspondence\, adhere to response deadlines\, and effectively communicate with the IRS to resolve issues and minimize risks. The session also highlights best practices for ensuring compliance and avoiding penalties or escalation\, empowering attendees to navigate IRS correspondence with confidence\n 

*Please Note:  If you need credit reported to the IRS for this IRS approved program\, please download the IRS CE request form on the Course Materials Tab and submit to <a href="mailto:kori.herrera@acpen.com">kori.herrera@acpen.com</a>\n  
CLASS:PUBLIC
END:VEVENT
END:VCALENDAR
