BEGIN:VCALENDAR
VERSION:2.0
PRODID:
BEGIN:VEVENT
UID:588119mb
DTSTAMP:20260421T103735Z
DTSTART:20260515T160000Z
DTEND:20260515T170700Z
LOCATION: **Online**
SUMMARY: Combatting Sexual Harassment in the Workplace
DESCRIPTION: This presentation will review what sex harassment is under the law\, company compliance obligations\, and describe how promoting a positive company culture can prevent sexual harassment in the workplace. \n  

 \n  
CLASS:PUBLIC
END:VEVENT
END:VCALENDAR
