BEGIN:VCALENDAR
VERSION:2.0
PRODID:
BEGIN:VEVENT
UID:587873mb
DTSTAMP:20260424T001433Z
DTSTART:20260507T160000Z
DTEND:20260507T193800Z
LOCATION: **Online**
SUMMARY: Audit Skills for Beginners
DESCRIPTION: Learn the basic skills new staff need to hit the ground running and efficiently complete assigned tasks\, including what new auditors are expected to know and do\, including the nature\, timing\, and extent of common audit procedures. Focus on why certain procedures are performed and perform typical procedures\n 
CLASS:PUBLIC
END:VEVENT
END:VCALENDAR
