BEGIN:VCALENDAR
VERSION:2.0
PRODID:
BEGIN:VEVENT
UID:587669mb
DTSTAMP:20260422T141106Z
DTSTART:20260430T220000Z
DTEND:20260501T013600Z
LOCATION: **Online**
SUMMARY: Nonprofit Internal Control - Practical Insights into Mitigating Financial Reporting\, Compliance and Other Risks
DESCRIPTION: There is simply no denying that a sufficiently designed and effectively operating system of internal controls over reliable financial reporting is more important than ever. The primary objective of this course is to give participants "hands-on" practice in designing\, evaluating\, and communicating conclusions related to design and operating effectiveness of internal controls over reliable financial reporting and other risks for nonprofit environments. \n  
CLASS:PUBLIC
END:VEVENT
END:VCALENDAR
