BEGIN:VCALENDAR
VERSION:2.0
PRODID:
BEGIN:VEVENT
UID:587609mb
DTSTAMP:20260421T102925Z
DTSTART:20260429T150000Z
DTEND:20260429T184100Z
LOCATION: **Online**
SUMMARY: Not Just Your Everyday FASB Update
DESCRIPTION: This course highlights significant updates that affect financial reporting and related attestation services. We will explore novel FASB pronouncements while examining the enduring impact of lease accounting and revenue recognition standards. This course will provide reminders regarding both GAAP and non-GAAP financial reporting alternatives for closely held entities. We will also explore selected guidance regarding audit\, review\, and compilation engagements\n 
CLASS:PUBLIC
END:VEVENT
END:VCALENDAR
