BEGIN:VCALENDAR
VERSION:2.0
PRODID:
BEGIN:VEVENT
UID:575379mb
DTSTAMP:20260420T031511Z
DTSTART:20260430T200000Z
DTEND:20260430T210000Z
SUMMARY: Linking Risk Management to Strategy
DESCRIPTION: Risk mitigation and response 
Boards and executive teams must manage an ever-changing landscape filled with uncertainty - due to economics\, geopolitics\, technology\, tax regulations\, talent pool\, cyber-terrorism\, data privacy and more. Emerging technologies\, such as artificial intelligence and the Internet of things (IoT)\, are disrupting business models across all sectors.  Learn strategies for mitigating risks and dealing with risks quickly.
CLASS:PUBLIC
END:VEVENT
END:VCALENDAR
