BEGIN:VCALENDAR
VERSION:2.0
PRODID:
BEGIN:VEVENT
UID:572325mb
DTSTAMP:20260423T093249Z
DTSTART:20260427T150000Z
DTEND:20260427T170000Z
LOCATION: **Online**
SUMMARY: Surgent's Purchase and Sale of a Residence: Critical Tax Issues
DESCRIPTION: Many clients end up selling one or more residences during their lifetimes. Tax practitioners must be aware of the tax rules that relate to such sales in order to assist their clients regarding these sales. This program provides general tax practitioners with the tax rules they need to know to help their clients when they sell a personal residence. This program is a comprehensive survey of the various tax issues associated with the sale of a residence.
CLASS:PUBLIC
END:VEVENT
END:VCALENDAR
