BEGIN:VCALENDAR
VERSION:2.0
PRODID:
BEGIN:VEVENT
UID:569470mb
DTSTAMP:20260420T201749Z
DTSTART:20260429T160000Z
DTEND:20260429T180000Z
LOCATION: **Online**
SUMMARY: Partnership Tax Updates (2025)
DESCRIPTION: The well-informed tax practitioner will want to attend this two hour program in order to stay current on recent updates on partnership tax!  Content includes recent court decisions on partnership tax issues as well as current IRS procedural updates for passthroughs.

This event may be a rebroadcast of a live event and the instructor will be available to answer your questions during the event.
CLASS:PUBLIC
END:VEVENT
END:VCALENDAR
