BEGIN:VCALENDAR
VERSION:2.0
PRODID:
BEGIN:VEVENT
UID:566905mb
DTSTAMP:20260424T001133Z
DTSTART:20260427T160000Z
DTEND:20260427T180000Z
LOCATION: **Online**
SUMMARY: Build Better Budgets: Fundamental Techniques
DESCRIPTION: This session provides insights for enhancing the preparation and utilization of budgets. Seasoned accountants will benefit from a refreshed awareness of popular techniques.  Budding financial professionals will obtain novel insight regarding fundamental budgeting concepts. All participants will develop an appreciation for the holistic nature of budgeting as an integral tool for planning and control. 

This event may be a rebroadcast of a live event and the instructor will be available to answer your questions during the event.
CLASS:PUBLIC
END:VEVENT
END:VCALENDAR
